0.250000
0.000000
0.000000
-0.250000
638189.981006
4727619.886963
