0.250000
0.000000
0.000000
-0.250000
651479.981006
4744109.886963
