0.250000
0.000000
0.000000
-0.250000
671919.981006
4744599.886963
