0.250000
0.000000
0.000000
-0.250000
648129.981006
4741719.886963
