0.250000
0.000000
0.000000
-0.250000
668569.981006
4742199.886963
