0.250000
0.000000
0.000000
-0.250000
658399.981006
4739629.886963
