0.250000
0.000000
0.000000
-0.250000
668679.981006
4737569.886963
