0.250000
0.000000
0.000000
-0.250000
655099.981006
4734929.886963
