0.250000
0.000000
0.000000
-0.250000
648329.981006
4732459.886963
