0.250000
0.000000
0.000000
-0.250000
661969.981006
4732779.886963
