0.250000
0.000000
0.000000
-0.250000
542639.981006
4721689.886963
