0.250000
0.000000
0.000000
-0.250000
552889.981006
4721769.886963
