0.250000
0.000000
0.000000
-0.250000
563129.981006
4721859.886963
