0.250000
0.000000
0.000000
-0.250000
542669.981006
4717069.886963
