0.250000
0.000000
0.000000
-0.250000
546099.981006
4714779.886963
