0.250000
0.000000
0.000000
-0.250000
563199.981006
4714919.886963
