0.250000
0.000000
0.000000
-0.250000
546119.981006
4712459.886963
