0.250000
0.000000
0.000000
-0.250000
559799.981006
4712579.886963
