0.250000
0.000000
0.000000
-0.250000
549549.981006
4710179.886963
