0.250000
0.000000
0.000000
-0.250000
552989.981006
4707889.886963
