0.250000
0.000000
0.000000
-0.250000
576769.981006
4724319.886963
