0.250000
0.000000
0.000000
-0.250000
590429.981006
4724489.886963
