0.250000
0.000000
0.000000
-0.250000
580209.981006
4722049.886963
