0.250000
0.000000
0.000000
-0.250000
569989.981006
4719619.886963
