0.250000
0.000000
0.000000
-0.250000
573409.981006
4719649.886963
