0.250000
0.000000
0.000000
-0.250000
583659.981006
4719779.886963
