0.250000
0.000000
0.000000
-0.250000
583679.981006
4717459.886963
