0.250000
0.000000
0.000000
-0.250000
590519.981006
4717549.886963
