0.250000
0.000000
0.000000
-0.250000
566619.981006
4714949.886963
