0.250000
0.000000
0.000000
-0.250000
587129.981006
4715189.886963
