0.250000
0.000000
0.000000
-0.250000
570059.981006
4712679.886963
