0.250000
0.000000
0.000000
-0.250000
576899.981006
4712749.886963
