0.250000
0.000000
0.000000
-0.250000
580319.981006
4712789.886963
