0.250000
0.000000
0.000000
-0.250000
576949.981006
4708129.886963
