0.250000
0.000000
0.000000
-0.250000
583799.981006
4708209.886963
