0.250000
0.000000
0.000000
-0.250000
593839.981006
4724539.886963
