0.250000
0.000000
0.000000
-0.250000
610949.981006
4722489.886963
