0.250000
0.000000
0.000000
-0.250000
593909.981006
4719909.886963
