0.250000
0.000000
0.000000
-0.250000
600809.981006
4715379.886963
