0.250000
0.000000
0.000000
-0.250000
597419.981006
4713019.886963
