0.250000
0.000000
0.000000
-0.250000
600839.981006
4713069.886963
