0.250000
0.000000
0.000000
-0.250000
617939.981006
4713349.886963
