0.250000
0.000000
0.000000
-0.250000
617979.981006
4711029.886963
