0.250000
0.000000
0.000000
-0.250000
621159.981006
4724979.886963
