0.250000
0.000000
0.000000
-0.250000
624569.981006
4725039.886963
