0.250000
0.000000
0.000000
-0.250000
634819.981006
4725239.886963
