0.250000
0.000000
0.000000
-0.250000
641649.981006
4725369.886963
