0.250000
0.000000
0.000000
-0.250000
621199.981006
4722659.886963
