0.250000
0.000000
0.000000
-0.250000
634859.981006
4722919.886963
