0.250000
0.000000
0.000000
-0.250000
641739.981006
4720749.886963
